BEGIN:VCALENDAR
VERSION:2.0
PRODID:-//hacksw/handcal//NONSGML v1.0//EN
CALSCALE:GREGORIAN
BEGIN:VEVENT
UID:69ea194e423d0
LOCATION:Rathaussaal\, Rathausstraße 1
URL;VALUE=URI:https://www.lustenau.at/de/events/archivgespraech-mit-andrea-sommerauer
SUMMARY:Archivgespräch mit Andrea Sommerauer\, Rathaussaal\, Rathausstraße 1
DTSTART:20260511T183000
DTEND:20260511T000000
DTSTAMP:20260423T150622
END:VEVENT
END:VCALENDAR
