BEGIN:VCALENDAR
VERSION:2.0
PRODID:-//hacksw/handcal//NONSGML v1.0//EN
CALSCALE:GREGORIAN
BEGIN:VEVENT
UID:69ea1a285ab99
LOCATION:DOCK 20
URL;VALUE=URI:https://www.lustenau.at/de/events/ausstellungseroeffnung-oliver-laric
SUMMARY:Ausstellungseröffnung: Oliver Laric\, DOCK 20
DTSTART:20260529
DTEND:20260529
DTSTAMP:20260423T151000
END:VEVENT
END:VCALENDAR
