BEGIN:VCALENDAR
VERSION:2.0
PRODID:-//hacksw/handcal//NONSGML v1.0//EN
CALSCALE:GREGORIAN
BEGIN:VEVENT
UID:69ea1bd0f2c93
LOCATION:Saal der Rheintalischen Musikschule
URL;VALUE=URI:https://www.lustenau.at/de/events/klassenabend-caecilia-maria-weber-klavier-1
SUMMARY:Klassenabend Cäcilia Maria Weber - Klavier\, Saal der Rheintalischen Musikschule
DTSTART:20260522T170000
DTEND:20260522T000000
DTSTAMP:20260423T151704
END:VEVENT
END:VCALENDAR
