BEGIN:VCALENDAR
VERSION:2.0
PRODID:-//hacksw/handcal//NONSGML v1.0//EN
CALSCALE:GREGORIAN
BEGIN:VEVENT
UID:69ea1a285ab5c
LOCATION:Druckwerk
URL;VALUE=URI:https://www.lustenau.at/de/events/kleinformat-miniprints-in-kleiner-runde-workshop-4-gelliprints-gin-tonic
SUMMARY:KLEINFORMAT: Miniprints in kleiner Runde | Workshop#4 Gelliprints &amp; Gin Tonic\, Druckwerk
DTSTART:20260508T183000
DTEND:20260508T210000
DTSTAMP:20260423T151000
END:VEVENT
END:VCALENDAR
