BEGIN:VCALENDAR
VERSION:2.0
PRODID:-//hacksw/handcal//NONSGML v1.0//EN
CALSCALE:GREGORIAN
BEGIN:VEVENT
UID:69ea199b6670e
LOCATION:dô für jung und älter
URL;VALUE=URI:https://www.lustenau.at/de/events/skatekurs-girls-only
SUMMARY:Skatekurs Girls* Only\, dô für jung und älter
DTSTART:20260430T170000
DTEND:20260430T193000
DTSTAMP:20260423T150739
END:VEVENT
END:VCALENDAR
