BEGIN:VCALENDAR
VERSION:2.0
PRODID:-//hacksw/handcal//NONSGML v1.0//EN
CALSCALE:GREGORIAN
BEGIN:VEVENT
UID:69ea19fba5f81
LOCATION:Treffpunkt am Pfarrweg
URL;VALUE=URI:https://www.lustenau.at/de/events/umweltwoche-2026-windelworkhop
SUMMARY:Umweltwoche 2026: Windelworkshop\, Treffpunkt am Pfarrweg
DTSTART:20260530T143000
DTEND:20260530T170000
DTSTAMP:20260423T150915
END:VEVENT
END:VCALENDAR
