BEGIN:VCALENDAR
VERSION:2.0
PRODID:-//hacksw/handcal//NONSGML v1.0//EN
CALSCALE:GREGORIAN
BEGIN:VEVENT
UID:69ea15ce0b6dd
LOCATION:Bodega Rioja
URL;VALUE=URI:https://www.lustenau.at/de/events/winzertage
SUMMARY:Winzertage\, Bodega Rioja
DTSTART:20260523T110000
DTEND:20260523T190000
DTSTAMP:20260423T145126
END:VEVENT
BEGIN:VEVENT
UID:69ea15ce0b8b0
LOCATION:Bodega Rioja
URL;VALUE=URI:https://www.lustenau.at/de/events/winzertage
SUMMARY:Winzertage\, Bodega Rioja
DTSTART:20260524T110000
DTEND:20260524T190000
DTSTAMP:20260423T145126
END:VEVENT
BEGIN:VEVENT
UID:69ea15ce0b93f
LOCATION:Bodega Rioja
URL;VALUE=URI:https://www.lustenau.at/de/events/winzertage
SUMMARY:Winzertage\, Bodega Rioja
DTSTART:20260525T110000
DTEND:20260525T190000
DTSTAMP:20260423T145126
END:VEVENT
END:VCALENDAR
