BEGIN:VCALENDAR
VERSION:2.0
PRODID:-//hacksw/handcal//NONSGML v1.0//EN
CALSCALE:GREGORIAN
BEGIN:VEVENT
UID:69ecbd46f40f5
LOCATION:Reichshofsaal
URL;VALUE=URI:https://www.lustenau.at/de/veranstaltungen/bienvenue-au-salon-pforte-salon-zu-gast
SUMMARY:BIENVENUE AU SALON! Pforte Salon zu Gast\, Reichshofsaal
DTSTART:20261210T190000
DTEND:20261210T000000
DTSTAMP:20260425T151031
END:VEVENT
END:VCALENDAR
