BEGIN:VCALENDAR
VERSION:2.0
PRODID:-//hacksw/handcal//NONSGML v1.0//EN
CALSCALE:GREGORIAN
BEGIN:VEVENT
UID:69eb22e23f307
LOCATION:Reichshofsaal 
URL;VALUE=URI:https://www.lustenau.at/de/veranstaltungen/theater-der-haken
SUMMARY:Theater: Der Haken\, Reichshofsaal 
DTSTART:20260226T190000
DTEND:20260226T000000
DTSTAMP:20260424T095930
END:VEVENT
END:VCALENDAR
