BEGIN:VCALENDAR
VERSION:2.0
PRODID:-//hacksw/handcal//NONSGML v1.0//EN
CALSCALE:GREGORIAN
BEGIN:VEVENT
UID:69eb23633dce0
LOCATION:Reichshofsaal 
URL;VALUE=URI:https://www.lustenau.at/de/veranstaltungen/theater-die-kinder
SUMMARY:Theater: Die Kinder\, Reichshofsaal 
DTSTART:20260318T190000
DTEND:20260318T000000
DTSTAMP:20260424T100139
END:VEVENT
END:VCALENDAR
